BEGIN:VCALENDAR
VERSION:2.0
PRODID:-//Parochie Gierle - ECPv6.15.14//NONSGML v1.0//EN
CALSCALE:GREGORIAN
METHOD:PUBLISH
X-ORIGINAL-URL:https://parochiegierle.be
X-WR-CALDESC:Evenementen voor Parochie Gierle
REFRESH-INTERVAL;VALUE=DURATION:PT1H
X-Robots-Tag:noindex
X-PUBLISHED-TTL:PT1H
BEGIN:VTIMEZONE
TZID:UTC
BEGIN:STANDARD
TZOFFSETFROM:+0000
TZOFFSETTO:+0000
TZNAME:UTC
DTSTART:20250101T000000
END:STANDARD
END:VTIMEZONE
BEGIN:VEVENT
DTSTART;TZID=UTC:20260816T093000
DTEND;TZID=UTC:20260816T103000
DTSTAMP:20260421T182210
CREATED:20260404T131545Z
LAST-MODIFIED:20260404T131545Z
UID:421-1786872600-1786876200@parochiegierle.be
SUMMARY:Eucharistie
DESCRIPTION:De maandelijkse Eucharistieviering op de derde zondag van de maand. We verwelkomen u in onze Eucharistie om 09:30u.
URL:https://parochiegierle.be/event/eucharistie-9/
LOCATION:Kerk Gierle\, Singel\, Gierle\, 2275\, Belgium
CATEGORIES:Eucharistie
ATTACH;FMTTYPE=image/png:https://parochiegierle.be/wp-content/uploads/2025/12/download-1.png
END:VEVENT
END:VCALENDAR